BEGIN:VCALENDAR
VERSION:2.0
PRODID:-//Sunnyside Resort - ECPv6.15.20//NONSGML v1.0//EN
CALSCALE:GREGORIAN
METHOD:PUBLISH
X-WR-CALNAME:Sunnyside Resort
X-ORIGINAL-URL:https://www.sunnysidelodge.com
X-WR-CALDESC:Events for Sunnyside Resort
REFRESH-INTERVAL;VALUE=DURATION:PT1H
X-Robots-Tag:noindex
X-PUBLISHED-TTL:PT1H
BEGIN:VTIMEZONE
TZID:America/Los_Angeles
BEGIN:DAYLIGHT
TZOFFSETFROM:-0800
TZOFFSETTO:-0700
TZNAME:PDT
DTSTART:20180311T100000
END:DAYLIGHT
BEGIN:STANDARD
TZOFFSETFROM:-0700
TZOFFSETTO:-0800
TZNAME:PST
DTSTART:20181104T090000
END:STANDARD
BEGIN:DAYLIGHT
TZOFFSETFROM:-0800
TZOFFSETTO:-0700
TZNAME:PDT
DTSTART:20190310T100000
END:DAYLIGHT
BEGIN:STANDARD
TZOFFSETFROM:-0700
TZOFFSETTO:-0800
TZNAME:PST
DTSTART:20191103T090000
END:STANDARD
BEGIN:DAYLIGHT
TZOFFSETFROM:-0800
TZOFFSETTO:-0700
TZNAME:PDT
DTSTART:20200308T100000
END:DAYLIGHT
BEGIN:STANDARD
TZOFFSETFROM:-0700
TZOFFSETTO:-0800
TZNAME:PST
DTSTART:20201101T090000
END:STANDARD
END:VTIMEZONE
BEGIN:VEVENT
DTSTART;VALUE=DATE:20191108
DTEND;VALUE=DATE:20191111
DTSTAMP:20260424T084653
CREATED:20191030T142244Z
LAST-MODIFIED:20191030T212348Z
UID:1962-1573171200-1573430399@www.sunnysidelodge.com
SUMMARY:Lake Tahoe Wellness Weekend
DESCRIPTION:The ninth annual Lake Tahoe Wellness Weekend offers movement and informational seminars and workshops that inspire and educate the mind\, body and soul. Three days of workshops will focus on alleviating stress using a holistic approach. Interactive seminars\, movement classes\, and educational workshops are designed for people of all abilities and of all walks of life. \nClick here for more information.
URL:https://www.sunnysidelodge.com/event/seventh-annual-wellness-weekend-copy/
LOCATION:Granlibakken Tahoe\, 725 Granlibakken Rd\, Tahoe City\, CA\, 96145\, United States
CATEGORIES:Community Events,Yearly Event
ATTACH;FMTTYPE=image/jpeg:https://www.sunnysidelodge.com/wp-content/uploads/2018/09/Sunnyside-yoga-image.jpg
END:VEVENT
END:VCALENDAR