BEGIN:VCALENDAR
VERSION:2.0
PRODID:-//Sunnyside Resort - ECPv6.15.20//NONSGML v1.0//EN
CALSCALE:GREGORIAN
METHOD:PUBLISH
X-WR-CALNAME:Sunnyside Resort
X-ORIGINAL-URL:https://www.sunnysidelodge.com
X-WR-CALDESC:Events for Sunnyside Resort
REFRESH-INTERVAL;VALUE=DURATION:PT1H
X-Robots-Tag:noindex
X-PUBLISHED-TTL:PT1H
BEGIN:VTIMEZONE
TZID:America/Los_Angeles
BEGIN:DAYLIGHT
TZOFFSETFROM:-0800
TZOFFSETTO:-0700
TZNAME:PDT
DTSTART:20190310T100000
END:DAYLIGHT
BEGIN:STANDARD
TZOFFSETFROM:-0700
TZOFFSETTO:-0800
TZNAME:PST
DTSTART:20191103T090000
END:STANDARD
BEGIN:DAYLIGHT
TZOFFSETFROM:-0800
TZOFFSETTO:-0700
TZNAME:PDT
DTSTART:20200308T100000
END:DAYLIGHT
BEGIN:STANDARD
TZOFFSETFROM:-0700
TZOFFSETTO:-0800
TZNAME:PST
DTSTART:20201101T090000
END:STANDARD
BEGIN:DAYLIGHT
TZOFFSETFROM:-0800
TZOFFSETTO:-0700
TZNAME:PDT
DTSTART:20210314T100000
END:DAYLIGHT
BEGIN:STANDARD
TZOFFSETFROM:-0700
TZOFFSETTO:-0800
TZNAME:PST
DTSTART:20211107T090000
END:STANDARD
END:VTIMEZONE
BEGIN:VEVENT
DTSTART;TZID=America/Los_Angeles:20200228T190000
DTEND;TZID=America/Los_Angeles:20200228T200000
DTSTAMP:20260424T011722
CREATED:20200226T223007Z
LAST-MODIFIED:20200226T223104Z
UID:2458-1582916400-1582920000@www.sunnysidelodge.com
SUMMARY:Tahoe City Fireworks
DESCRIPTION:Like last year\, the SNOWFEST fireworks will be held at the Tahoe City Golf Course. Join us for 30 minutes fireworks in a winter wonderland! To donate to this year’s fireworks fund\, visit: https://chuffed.org/project/2020-snowfest-fireworks
URL:https://www.sunnysidelodge.com/event/tahoe-city-fireworks/
LOCATION:Tahoe City Golf Course\, 251 N Lake Blvd\, Tahoe City\, CA\, 96145\, United States
ATTACH;FMTTYPE=image/jpeg:https://www.sunnysidelodge.com/wp-content/uploads/2020/02/IMG_4758.jpg
END:VEVENT
END:VCALENDAR